BEGIN:VCALENDAR
VERSION:2.0
CALSCALE:GREGORIAN
BEGIN:VEVENT
SUMMARY:Reformer 1:1
DTSTART;TZID=Europe/Berlin:20260122T123000
DTEND;TZID=Europe/Berlin:20260122T133000
LOCATION:Stuttgarter Str. 42/2, 71701 Schwieberdingen
DESCRIPTION: 
STATUS:CONFIRMED
SEQUENCE:0
END:VEVENT
END:VCALENDAR