BEGIN:VCALENDAR
VERSION:2.0
CALSCALE:GREGORIAN
BEGIN:VEVENT
SUMMARY:Pilates Reformer - Anfänger
DTSTART;TZID=Europe/Berlin:20260217T105000
DTEND;TZID=Europe/Berlin:20260217T115000
LOCATION:Stuttgarter Str. 42/2, 71701 Schwieberdingen
DESCRIPTION: Der Pilates Reformer ist ein spezielles Trainingsgerät mit einem beweglichen Schlitten, Seilzügen und variablen Federwiderständen. Er bietet unzählige Übungsmöglichkeiten und passt sich dabei jedem Fitnesslevel an. Durch die kontrollierten Bewegungen und den gezielten Widerstand werden alle Muskelgruppen effektiv trainiert.

Hinweis zur Stornierung:
Eine kostenfreie Stornierung ist bis spätestens 12 Stunden vor Kursbeginn möglich.
Wird ein Kurs später storniert oder nicht wahrgenommen, verfällt der Credit. Bei rechtzeitiger Stornierung wird der Credit vollständig zurückerstattet.
Auch bei Barzahlung ist die Zahlung verpflichtend.
STATUS:CONFIRMED
SEQUENCE:0
END:VEVENT
END:VCALENDAR