BEGIN:VCALENDAR
VERSION:2.0
CALSCALE:GREGORIAN
BEGIN:VEVENT
SUMMARY:Séance Pilates
DTSTART;TZID=Europe/Paris:20251126T180000
DTEND;TZID=Europe/Paris:20251126T185500
LOCATION:8, Place Théodore Aubanel à Vaison
DESCRIPTION: Les séances du mercredi soir auront lieu au 8, Place Théodore Aubanel à Vaison
Il est prévu 13 séances dans le premier trimestre
STATUS:CONFIRMED
SEQUENCE:0
END:VEVENT
END:VCALENDAR