BEGIN:VCALENDAR
VERSION:2.0
CALSCALE:GREGORIAN
BEGIN:VEVENT
SUMMARY:Séance Pilates
DTSTART;TZID=Europe/Paris:20251204T090000
DTEND;TZID=Europe/Paris:20251204T095500
LOCATION:Avenue René Cassin, Vaison-la-Romaine
DESCRIPTION: Les cours ont lieu le lundi de 10h à 11h, le mercredi de 18h à 19h et le jeudi de 9h à 10h.

Lieu : ancien dojo, Rue René Cassin, 84110 Vaison-la-Romaine.

Les cours démarrent le 15 septembre et vont jusqu&#039;au lundi 22 décembre 2025. Il est prévu 13 séances pour le pour le 1er trimestre.
Merci de bien vouloir vous équiper de votre propre matériel Pilates : tapis de sol, cercle magique, élastique, ballon à paille... Je vous informerai le moment venu quel matériel à apporter pour le cours suivant.
STATUS:CONFIRMED
SEQUENCE:0
END:VEVENT
END:VCALENDAR