BEGIN:VCALENDAR
VERSION:2.0
CALSCALE:GREGORIAN
BEGIN:VEVENT
SUMMARY:Séance pilates
DTSTART;TZID=Europe/Paris:20260204T180000
DTEND;TZID=Europe/Paris:20260204T185500
LOCATION:Ancien Dojo, Rue réné Cassin
DESCRIPTION: séance avec Judith(kristel absent jusqu&#039;au 16 février )
STATUS:CONFIRMED
SEQUENCE:0
END:VEVENT
END:VCALENDAR