BEGIN:VCALENDAR
VERSION:2.0
CALSCALE:GREGORIAN
BEGIN:VEVENT
SUMMARY:Gym pilates
DTSTART;TZID=Europe/Paris:20260218T180000
DTEND;TZID=Europe/Paris:20260218T190000
LOCATION:Avenue René Cassin, Vaison-la-Romaine
DESCRIPTION: Dernier cours avec Judith, au Dojo à  18h.
STATUS:CONFIRMED
SEQUENCE:0
END:VEVENT
END:VCALENDAR