BEGIN:VCALENDAR
VERSION:2.0
CALSCALE:GREGORIAN
BEGIN:VEVENT
SUMMARY:Séance Pilates
DTSTART;TZID=Europe/Paris:20260422T180000
DTEND;TZID=Europe/Paris:20260422T190000
LOCATION:8, pplace theodore aubanel
DESCRIPTION: 1e séance 3e trimestre
STATUS:CONFIRMED
SEQUENCE:0
END:VEVENT
END:VCALENDAR