BEGIN:VCALENDAR
VERSION:2.0
CALSCALE:GREGORIAN
BEGIN:VEVENT
SUMMARY:Business Yoga 90min.
DTSTART;TZID=Europe/Amsterdam:20251111T090000
DTEND;TZID=Europe/Amsterdam:20251111T103000
LOCATION:Flensburg
DESCRIPTION: Dieses Zeitfenster ist für persönliche Yoga-Stunden reserviert.
Für 1 Person oder eine geschlossene Gruppe. Sie kann online oder an einem Ort der Wahl (z.B. meinem Yogaraum oder Garten im Wanderup) stattfinden. Gegen Anfahrtsgebühr auch in den eig. 4 Wänden.

Das gewünschte Programm, Vorliegen, Themen, Schwerpunkte der ggf. körperliche Herausforderungen werden in einer vorherigen Absprache geklärt. Ich freue mich auf dich / euch!
STATUS:CONFIRMED
SEQUENCE:0
END:VEVENT
END:VCALENDAR