BEGIN:VCALENDAR
VERSION:2.0
CALSCALE:GREGORIAN
BEGIN:VEVENT
SUMMARY:Kinder-Yoga &amp; Entspannung 4 - 9 Jahre (ca.) 45-60min
DTSTART;TZID=Europe/Amsterdam:20251211T150000
DTEND;TZID=Europe/Amsterdam:20251211T163000
LOCATION:Wanderup
DESCRIPTION: Kinder-Yoga Weihnachtsfeier 🎄✨

Donnerstag, 11. Dezember · 15:00–16:30 Uhr

Zum Abschluss des Jahres findet eine besondere Kinder-Yoga-Doppelstunde statt – eine gemütliche Weihnachtsfeier mit Bewegung, Kreativität und Achtsamkeit. 🧘‍♀️💫

Nach einer spielerischen Yogaeinheit wird gemeinsam gemalt, gelacht und genascht. Jedes Kind darf gerne etwas zum Snacken mitbringen, zum Beispiel selbstgebackene Kekse 🍪.

Als kreativen Teil gestalten die Kinder eigene Kerzen.
Mitgebracht werden kann:
– eine Stumpen- oder Stabkerze,
– mit oder ohne Halter,
– oder eine LED-Variante.

Die Stifte zum Bemalen werden gestellt. Eine Unterlage (z. B. Frühstücksbrettchen oder Bastelunterlage) sollte mitgebracht werden.
Wer möchte, dass Kerzen bereitgestellt werden, gibt bitte etwa eine Woche vorher Bescheid.

Eine liebevolle Gelegenheit, das Jahr entspannt und in festlicher Stimmung ausklingen zu lassen  🍊✨
STATUS:CONFIRMED
SEQUENCE:0
END:VEVENT
END:VCALENDAR