BEGIN:VCALENDAR
VERSION:2.0
CALSCALE:GREGORIAN
BEGIN:VEVENT
SUMMARY:Strong Flow ***ONLINE***
DTSTART;TZID=Europe/Brussels:20200929T200000
DTEND;TZID=Europe/Brussels:20200929T210000
LOCATION:Your place! ;-)
DESCRIPTION: Om iedereen - ook in Coronatijden - de kans te geven om yogales te volgen, streamen we zo lang het nodig is onze lessen live en in real time digitaal. Door je op deze les in te schrijven weten we dat jij van thuis uit mee wil doen en sturen we jou een 15-tal minuten voor de les begint een link door op je opgegeven mailadres via de welke je kan aansluiten op de les. Gewoon van thuis uit. 

~

Kracht. Dynamiek. Fun.

Een leuke, wisselende flow doorspekt met functional movement en mobility work. De yogaworkout die jouw practice naar een hoger niveau tilt! Come and have fun!

Strong Flow is geschikt voor alle niveaus, voor elke houding/beweging worden verschillende opties aangereikt, zodat je zelf kan ontdekken waar jouw grens ligt.
STATUS:CONFIRMED
SEQUENCE:0
END:VEVENT
END:VCALENDAR