BEGIN:VCALENDAR
VERSION:2.0
CALSCALE:GREGORIAN
BEGIN:VEVENT
SUMMARY:Yogalab - 8AM
DTSTART;TZID=Europe/Brussels:20201006T080000
DTEND;TZID=Europe/Brussels:20201006T093000
LOCATION:PLOOY Yogastudio
DESCRIPTION: Welkom in het YOGALAB waar je komt om een eigen yogapractice aan te leren en nadien te blijven beoefenen en verbeteren. Iedereen leert en oefent hier op eigen tempo en niveau. Individueel, maar niet alleen.

Conform de Corona-maatregelen gaat deze les in beperkte groep door en vragen we je enkele basisregels in acht te nemen:
- voorzie in de mate van het mogelijke je eigen materiaal
- was bij het binnenkomen in de studio je handen
- kies een aangeduide plaats in de zaal
- ontsmet na je practice al het gebruikte materiaal
- onze lounge blijft nog &quot;gesloten&quot;, na de les dien je de studio te verlaten
- we mogen je nog geen thee of water aanbieden, hou hier rekening mee
STATUS:CONFIRMED
SEQUENCE:0
END:VEVENT
END:VCALENDAR