BEGIN:VCALENDAR
VERSION:2.0
CALSCALE:GREGORIAN
BEGIN:VEVENT
SUMMARY:BOOTCAMP
DTSTART;TZID=Europe/Brussels:20250805T184000
DTEND;TZID=Europe/Brussels:20250805T191500
LOCATION:Sancta Maria Aarschot
DESCRIPTION: Deze intense intervaltraining is de meest effectieve en snelle manier om je metabolisme, gezondheid en humeur een geweldige boost te geven. Verstand op 0 en gaan! Byebye stress!

⏰ Dinsdag 18u40
STATUS:CONFIRMED
SEQUENCE:0
END:VEVENT
END:VCALENDAR