BEGIN:VCALENDAR
VERSION:2.0
CALSCALE:GREGORIAN
BEGIN:VEVENT
SUMMARY:YOGA
DTSTART;TZID=Europe/Brussels:20250806T103000
DTEND;TZID=Europe/Brussels:20250806T112000
LOCATION:Langdorpsesteenweg 297 - Aarschot
DESCRIPTION: Ondersteund door jouw ademhaling en de muziek vormt deze les een zalige mix tussen inspanning en ontspanning terwijl je lichaam aan kracht en flexibiliteit wint. Een cadeau voor je lichaam en geest. Heerlijk relax!
Breng gerust props mee om jezelf extra te ondersteunen: dekentje, kussen(s),...
STATUS:CONFIRMED
SEQUENCE:0
END:VEVENT
END:VCALENDAR