BEGIN:VCALENDAR
VERSION:2.0
CALSCALE:GREGORIAN
BEGIN:VEVENT
SUMMARY:CACAO CEREMONIE HOT KUNDALINI&amp;YIN YOGA/ KLANKSCHAALSESSIE / 8 YEARS ANS STILL GOING STRONG
DTSTART;TZID=Europe/Amsterdam:20230115T090000
DTEND;TZID=Europe/Amsterdam:20230115T103000
LOCATION:Wilhelminastraat 30 a
DESCRIPTION: we gaan samen cacao drinken en hiermee openen we ons hart.
Het is al eeuwen oud en het werd al duizenden jaren geleden door de maya&#039;s gebruikt voor het zetten van intenstie&#039;s en door het openen van het hart meer verbinding met elkaar te krijgen.
Speciaal omdat wij 8 jaar bestaan geef ik deze ceremonie met daaraan aansluitend een heerlijke kundalini/yin sessie en met de eindontspanning een heerlijke klankschaalsessie.
STATUS:CONFIRMED
SEQUENCE:0
END:VEVENT
END:VCALENDAR