BEGIN:VCALENDAR
VERSION:2.0
CALSCALE:GREGORIAN
BEGIN:VEVENT
SUMMARY:COMBI LES
DTSTART;TZID=Europe/Amsterdam:20221210T083000
DTEND;TZID=Europe/Amsterdam:20221210T093000
LOCATION:Wilhelminastraat 30 a
DESCRIPTION: Een combinatie van hot yoga &amp;amp; core
STATUS:CONFIRMED
SEQUENCE:0
END:VEVENT
END:VCALENDAR