BEGIN:VCALENDAR
VERSION:2.0
CALSCALE:GREGORIAN
BEGIN:VEVENT
SUMMARY:HOT YOGA (IN DE ZOMERVAKANTIE HEBBEN WE 1 HOT LES OP MAANDAG)
DTSTART;TZID=Europe/Amsterdam:20220801T193000
DTEND;TZID=Europe/Amsterdam:20220801T203000
LOCATION:Wilhelminastraat 30 a
DESCRIPTION: Hot Yoga: combi van easy vinyasa &amp;amp; kundalini &amp;amp; yin 
Deze Hot les geven we gedurende zomervakantie van 19:30-20:30
STATUS:CONFIRMED
SEQUENCE:0
END:VEVENT
END:VCALENDAR