BEGIN:VCALENDAR
VERSION:2.0
CALSCALE:GREGORIAN
BEGIN:VEVENT
SUMMARY:Yin Yoga door Yvonne, voorlopig laatste les op dinsdag
DTSTART;TZID=Europe/Amsterdam:20250520T193000
DTEND;TZID=Europe/Amsterdam:20250520T203000
LOCATION:Parkstraat 2, Grou
DESCRIPTION: Yin Yoga is een meditatieve vorm van yoga waarbij je houdingen zo´n 3 - 5 minuten vasthoudt. De houdingen zijn gericht op het versterken en versoepelen van je bindweefsel en je gewrichten.
Yvonne geeft les vanuit haar hart en met live muziek.
STATUS:CONFIRMED
SEQUENCE:0
END:VEVENT
END:VCALENDAR