BEGIN:VCALENDAR
VERSION:2.0
CALSCALE:GREGORIAN
BEGIN:VEVENT
SUMMARY:PILATES FUSION : OPEN LEVEL
DTSTART;TZID=Europe/Brussels:20250412T123000
DTEND;TZID=Europe/Brussels:20250412T133000
LOCATION:FLAGEY: Maison Malibran. Rue de Digue 10, 1050 Ixelles. 3d floor
DESCRIPTION: PILATES FUSION : OPEN LEVEL
Languages: English + Français

EN: 
The cult Pilates Mat Series. Classical approach where precision, flow, connection, and breath come together to create the true Pilates Magic! 

To keep your practice fresh and exciting, we’ll regularly incorporate props like Swiss balls, elastic bands, blocks, and weights, - bringing both variety and challenge to every session.
STATUS:CONFIRMED
SEQUENCE:0
END:VEVENT
END:VCALENDAR