BEGIN:VCALENDAR
VERSION:2.0
CALSCALE:GREGORIAN
BEGIN:VEVENT
SUMMARY:Replay Only Pralaya Yoga Thema armen en schouders
DTSTART;TZID=Europe/Amsterdam:20260515T083000
DTEND;TZID=Europe/Amsterdam:20260515T100000
LOCATION:Bij jou thuis
DESCRIPTION: Pralaya Yoga is gebaseerd op het uitlijnen van de gewrichten door het versterken van vergeten spiergroepen, het herstructureren van strak bindweefsel. Wanneer de signalen vanuit de hersenen naar het lichaam en andersom helder vloeien kun je fysiek, emotioneel en energetisch op een hoger nivo functioneren als menselijk wezen.
STATUS:CONFIRMED
SEQUENCE:0
END:VEVENT
END:VCALENDAR