BEGIN:VCALENDAR
VERSION:2.0
CALSCALE:GREGORIAN
BEGIN:VEVENT
SUMMARY:In-de-Studio@Schipluiden tuin - Pralaya Basics (English)
DTSTART;TZID=Europe/Amsterdam:20260309T161500
DTEND;TZID=Europe/Amsterdam:20260309T173000
LOCATION:Schipluiden
DESCRIPTION: FundaMovements

This class takes place in the garden in Schipluiden

Sign in to receive the adress!
STATUS:CONFIRMED
SEQUENCE:0
END:VEVENT
END:VCALENDAR