BEGIN:VCALENDAR
VERSION:2.0
CALSCALE:GREGORIAN
BEGIN:VEVENT
SUMMARY:In-de-zaal XL Pralaya Yoga donatieles
DTSTART;TZID=Europe/Amsterdam:20260314T110000
DTEND;TZID=Europe/Amsterdam:20260314T130000
LOCATION:Buurthuis de Hofstee
DESCRIPTION: Pralaya Yoga is gebaseerd op het uitlijnen van de gewrichten door het versterken van vergeten spiergroepen, het herstructureren van strak bindweefsel. Wanneer de signalen vanuit de hersenen naar het lichaam en andersom helder vloeien kun je fysiek, emotioneel en energetisch op een hoger nivo functioneren als menselijk wezen.
STATUS:CONFIRMED
SEQUENCE:0
END:VEVENT
END:VCALENDAR