BEGIN:VCALENDAR
VERSION:2.0
CALSCALE:GREGORIAN
BEGIN:VEVENT
SUMMARY:Workshop for erfarne elever, nivå 2
DTSTART;TZID=Europe/Oslo:20220410T100000
DTEND;TZID=Europe/Oslo:20220410T123000
LOCATION:Dronningensgate 75
DESCRIPTION: Hva skal til for å bli sertifisert Iyengar Yoga lærer? 
Alle stillingene som er pensum for Iyengar Yoga sertifisering level 1 vil bli gjennomgått . Det blir ikke mye forklaring eller rettelse i timen, så du bør ha en god yogaforståelse og praksis for å delta.
STATUS:CONFIRMED
SEQUENCE:0
END:VEVENT
END:VCALENDAR