BEGIN:VCALENDAR
VERSION:2.0
CALSCALE:GREGORIAN
BEGIN:VEVENT
SUMMARY:Workshop med Brigitta Tummon
DTSTART;TZID=Europe/Oslo:20220522T083000
DTEND;TZID=Europe/Oslo:20220522T143000
LOCATION:Dronningensgate 75
DESCRIPTION: Søndag er bare for Iyengar yoga lærere og de som holder på med utdannelsen til å bli lærer.
STATUS:CONFIRMED
SEQUENCE:0
END:VEVENT
END:VCALENDAR