BEGIN:VCALENDAR
VERSION:2.0
CALSCALE:GREGORIAN
BEGIN:VEVENT
SUMMARY:Workshop Yoga kurunta (Bodil)
DTSTART;TZID=Europe/Oslo:20220526T100000
DTEND;TZID=Europe/Oslo:20220526T120000
LOCATION:Dronningensgate 75
DESCRIPTION: Nivåe 1-2, passer for de med erfaring fra yoga. 
Yoga Kurunta er en metode for å utføre en rekke asanas ved hjelp av tau festet i vegg som gir økt nøyaktighet, smidighet og balanse. Yoga kurunta er den beste måten å oppnå en sterkere, dypere og mer effektiv strekk i  kroppen .
Koster 200kr for medlemmer, 400kr for andre.
STATUS:CONFIRMED
SEQUENCE:0
END:VEVENT
END:VCALENDAR