BEGIN:VCALENDAR
VERSION:2.0
CALSCALE:GREGORIAN
BEGIN:VEVENT
SUMMARY:Privat yogaklasse (Hege)
DTSTART;TZID=Europe/Oslo:20220120T143000
DTEND;TZID=Europe/Oslo:20220120T153000
LOCATION:Dronningensgate 75
DESCRIPTION: 
STATUS:CONFIRMED
SEQUENCE:0
END:VEVENT
END:VCALENDAR