BEGIN:VCALENDAR
VERSION:2.0
CALSCALE:GREGORIAN
BEGIN:VEVENT
SUMMARY:Online zoom Yoga 1-2 (Bodil)
DTSTART;TZID=Europe/Oslo:20220109T103000
DTEND;TZID=Europe/Oslo:20220109T113000
LOCATION:Hjemme
DESCRIPTION: Nivå 1-2, passer for de med noe erfaring fra Yoga.
Du får tilsendt link på mail 30 min før timen starter. Du kan også gå direkte til klassen via timeplanen - hvis du har booket deg på.Du trenger to klosser, yoga belte, teppe og gjerne en stol.
Hvis du mangler noe av utstyret, så improviserer du så godt du kan.
STATUS:CONFIRMED
SEQUENCE:0
END:VEVENT
END:VCALENDAR