BEGIN:VCALENDAR
VERSION:2.0
CALSCALE:GREGORIAN
BEGIN:VEVENT
SUMMARY:Workshop med Jette Berring
DTSTART;TZID=Europe/Oslo:20220618T090000
DTEND;TZID=Europe/Oslo:20220618T160000
LOCATION:Prana Yoga Studio
DESCRIPTION: 
STATUS:CONFIRMED
SEQUENCE:0
END:VEVENT
END:VCALENDAR