BEGIN:VCALENDAR
VERSION:2.0
CALSCALE:GREGORIAN
BEGIN:VEVENT
SUMMARY:Pilates Aéreo
DTSTART;TZID=Europe/London:20260518T170000
DTEND;TZID=Europe/London:20260518T180000
LOCATION:C/ Guadalquivir 30, Puerto del Rosario
DESCRIPTION: 
STATUS:CONFIRMED
SEQUENCE:0
END:VEVENT
END:VCALENDAR