BEGIN:VCALENDAR
VERSION:2.0
CALSCALE:GREGORIAN
BEGIN:VEVENT
SUMMARY:Pilates aéreo nivel básico
DTSTART;TZID=Europe/London:20260512T114500
DTEND;TZID=Europe/London:20260512T124500
LOCATION:C/ Guadalquivir 30 Puerto del Rosario
DESCRIPTION: Iniciación al pilates con telas. Apto para todos los niveles, para empezar esta practica paso a paso, cogiendo confianza con la tela y aprendiendo figuras y posturas básicas.
STATUS:CONFIRMED
SEQUENCE:0
END:VEVENT
END:VCALENDAR