BEGIN:VCALENDAR
VERSION:2.0
CALSCALE:GREGORIAN
BEGIN:VEVENT
SUMMARY:(Vid 📸 Recording) Power Vinyasa
DTSTART;TZID=America/Los_Angeles:20230613T181500
DTEND;TZID=America/Los_Angeles:20230613T193000
LOCATION:Zoom link (emailed)
DESCRIPTION: Class cancelled just for today! Karli&#039;s cute little nephews (6 &amp;amp; 8 yrs old) are currently visiting, so she&#039;s taking time to be with them. But Thursday&#039;s Yin + Yang class is still on!

Our beloved Power Vinyasa will resume next weekend as normal. In the meantime, you are welcome to practice under any of our previous class recordings located in our On-Demand library, found under the ‘Videos’ tab!

If you have any questions, please feel free to reach out.

See you next week!
STATUS:CONFIRMED
SEQUENCE:0
END:VEVENT
END:VCALENDAR