BEGIN:VCALENDAR
VERSION:2.0
CALSCALE:GREGORIAN
BEGIN:VEVENT
SUMMARY:Pilates online (filmpje)
DTSTART;TZID=Europe/Amsterdam:20220625T103000
DTEND;TZID=Europe/Amsterdam:20220625T113000
LOCATION:filmpje
DESCRIPTION: 
STATUS:CONFIRMED
SEQUENCE:0
END:VEVENT
END:VCALENDAR