BEGIN:VCALENDAR
VERSION:2.0
CALSCALE:GREGORIAN
BEGIN:VEVENT
SUMMARY:yoga in studio - regular/strong
DTSTART;TZID=Europe/Amsterdam:20221231T090000
DTEND;TZID=Europe/Amsterdam:20221231T101000
LOCATION:Thorbeckelaan 2, Gouda
DESCRIPTION: intensieve yoga met aandacht voor techniek
STATUS:CONFIRMED
SEQUENCE:0
END:VEVENT
END:VCALENDAR