BEGIN:VCALENDAR
VERSION:2.0
CALSCALE:GREGORIAN
BEGIN:VEVENT
SUMMARY:Yoga restorative in studio - mild
DTSTART;TZID=Europe/Amsterdam:20230427T201500
DTEND;TZID=Europe/Amsterdam:20230427T211500
LOCATION:Thorbeckelaan 2, Gouda
DESCRIPTION: Ontspanning en stretching staat centraal, daarnaast afwisselende houdingen.
STATUS:CONFIRMED
SEQUENCE:0
END:VEVENT
END:VCALENDAR