BEGIN:VCALENDAR
VERSION:2.0
CALSCALE:GREGORIAN
BEGIN:VEVENT
SUMMARY:Opening Party Free Class/ Beginner
DTSTART;TZID=Europe/Berlin:20191116T121000
DTEND;TZID=Europe/Berlin:20191116T131500
LOCATION:14 Uplands road
DESCRIPTION: Are you curious about Yoga and want to find out wheter it is for you? Come and join us for this free class and find out!
STATUS:CONFIRMED
SEQUENCE:0
END:VEVENT
END:VCALENDAR