BEGIN:VCALENDAR
VERSION:2.0
CALSCALE:GREGORIAN
BEGIN:VEVENT
SUMMARY:All Level - online mit Katrin
DTSTART;TZID=Europe/Berlin:20211101T190000
DTEND;TZID=Europe/Berlin:20211101T200000
LOCATION:Online
DESCRIPTION: All Level am Montag Abend :) Für einen dynamischen und entspannten Start in die neue Woche ! Wir treffen wir uns online ♡
Einfach hier eintragen und Du bekommst den link zu deiner Zoom live Klasse spätestens 15 Minuten vor Beginn zugeschickt. 

Ich freue mich auf dich !
STATUS:CONFIRMED
SEQUENCE:0
END:VEVENT
END:VCALENDAR