BEGIN:VCALENDAR
VERSION:2.0
CALSCALE:GREGORIAN
BEGIN:VEVENT
SUMMARY:All Level - online mit Kathi
DTSTART;TZID=Europe/Berlin:20220516T183000
DTEND;TZID=Europe/Berlin:20220516T193000
LOCATION:Franz Schuster Strasse 17A
DESCRIPTION: All Level am Montag Abend :) Für einen dynamischen und entspannten Start in die neue Woche ! Während der nächsten Wochen treffen wir uns online ♡
Einfach hier eintragen und Du bekommst den link zu deiner Zoom live Klasse spätestens 15 Minuten vor Beginn zugeschickt. 

Ich freue mich auf dich !
STATUS:CONFIRMED
SEQUENCE:0
END:VEVENT
END:VCALENDAR