BEGIN:VCALENDAR
VERSION:2.0
CALSCALE:GREGORIAN
BEGIN:VEVENT
SUMMARY:ATELIER - Comment créons-nous notre vraie destinée?
DTSTART;TZID=Indian/Mauritius:20230916T090000
DTEND;TZID=Indian/Mauritius:20230916T120000
LOCATION:Pur&#039;Nam - The Studio
DESCRIPTION: Comment créons-nous notre vraie destinée?
1. Procrastinez-vous souvent?
2. Sentez-vous que vous devez souvent faire des compromis dans votre vie professionnelle et personnelle?
3. Avez-vous souvent l&#039;impression de survivre et de ne pas prospérer?
Rejoignez-nous pour cet atelier de 3 heures, où nous apprenons à décoder nos émotions et comprendre pourquoi trouver notre véritable identité est important pour créer notre véritable chemin de vie.
Cet atelier est animé par Jenny Korten, coach certifiée pour les programmes EP7 et UFIND.
Cliquez ici pour voir sa biographie complète: https://www.ep7.com.au/jenny-korten
STATUS:CONFIRMED
SEQUENCE:0
END:VEVENT
END:VCALENDAR