BEGIN:VCALENDAR
VERSION:2.0
CALSCALE:GREGORIAN
BEGIN:VEVENT
SUMMARY:Lezing hormoonstelsel met Sandra Mous
DTSTART;TZID=Europe/Amsterdam:20241126T193000
DTEND;TZID=Europe/Amsterdam:20241126T203000
LOCATION:Houtsaachmole 3c
DESCRIPTION: Acht op de tien vrouwen krijgen last van overgangsklachten! De overgang is een natuurlijke fase in de vrouwelijke cyclus. Je gaat van vruchtbare vrouw naar wijze vrouw. Deze periode hoort soepel te verlopen. Helaas is dit voor veel vrouwen niet het geval.
De hormonen kunnen alle kanten op gaan en emoties kunnen in een achtbaan terechtkomen. Opvliegers, slecht slapen en gewichtstoename zijn veelgehoorde klachten. Sommige vrouwen voelen zich niet lekker in hun vel en vervolgens kunnen er ook nog lichamelijke ongemakken bij komen die veelal onbesproken blijven, omdat er een taboe op rust.

Wil jij meer inzicht in je hormonen? En wil je vooral weten wat je kunt doen om met je hormonen te leven in plaats van te overleven? 

Sandra Mous, orthomoleculair hormoontherapeut.
STATUS:CONFIRMED
SEQUENCE:0
END:VEVENT
END:VCALENDAR