BEGIN:VCALENDAR
VERSION:2.0
CALSCALE:GREGORIAN
BEGIN:VEVENT
SUMMARY:Yoga Harry Potter
DTSTART;TZID=Europe/Paris:20251116T110000
DTEND;TZID=Europe/Paris:20251116T120000
LOCATION:
DESCRIPTION: Bienvenue à Poudlard... pour une pratique de Yoga !
Préparez-vous à entrer dans un monde où la magie et le bien-être se rencontrent. Rejoignez-nous pour un cours de yoga unique inspiré par l&#039;univers d&#039;Harry Potter. Que vous soyez un Serpentard ambitieux ou un Gryffondor courageux, ce cours est conçu pour éveiller votre sorcier intérieur.

Qu&#039;est-ce qui vous attend ?
Des postures magiques : Laissez-vous porter par un enchaînement de postures renommées comme &quot;L&#039;arbre du Saule&quot;, la &quot;Montagne de Gringotts&quot;, la &quot;Posture du Patronus&quot; et &quot;La Danse des Sorciers&quot;.

Musique enchanteresse : Pratiquez au son de l&#039;envoûtante bande originale des films pour une immersion totale dans le monde des sorciers.

Thèmes ensorcelants : Chaque séance sera une aventure, explorant des thèmes tels que le courage, la sagesse, l&#039;amitié et la loyauté.

Inscription
Chaque place est une entrée à Poudlard pour une soirée seulement, alors n&#039;attendez pas que le Quai 9¾ se ferme !
STATUS:CONFIRMED
SEQUENCE:0
END:VEVENT
END:VCALENDAR