BEGIN:VCALENDAR
VERSION:2.0
CALSCALE:GREGORIAN
BEGIN:VEVENT
SUMMARY:Private Postnatal Yoga
DTSTART;TZID=Europe/Zurich:20220315T110000
DTEND;TZID=Europe/Zurich:20220315T120000
LOCATION:Client&#039;s Home
DESCRIPTION: This class is appropriate for postnatal women. It is designed to help alleviate some of the common discomforts of pregnancy, but also strengthen and tone the muscles and organs. All warm-ups, sun salutations, standing and seated postures consider the particular needs of the perinatal woman. Committed to the idea that yoga should be fun, this class offers a balance of play, laugh and sweat, with an emphasis on alignment and breath.
STATUS:CONFIRMED
SEQUENCE:0
END:VEVENT
END:VCALENDAR