BEGIN:VCALENDAR
VERSION:2.0
CALSCALE:GREGORIAN
BEGIN:VEVENT
SUMMARY:Ashtanga Yoga + candlelit meditation at ETNA Centre
DTSTART;TZID=Europe/London:20221216T180000
DTEND;TZID=Europe/London:20221216T190000
LOCATION:ETNA Centre, 13 Rosslyn Rd, TW1 2AR
DESCRIPTION: a special evening class going into the holiday season, closing with a candlelit meditation. You are also invited to join the Ravi Yoga festive party after the class in the ETNA Centre community kitchen. (19:30 - 21:30)
This is an in person group class at the ETNA Centre. (This class not available online)
Yoga mats are available but you are welcome to bring your own.
STATUS:CONFIRMED
SEQUENCE:0
END:VEVENT
END:VCALENDAR