BEGIN:VCALENDAR
VERSION:2.0
CALSCALE:GREGORIAN
BEGIN:VEVENT
SUMMARY:Bewust Verbonden Ademen - Verdiepende sessie
DTSTART;TZID=Europe/Amsterdam:20251114T193000
DTEND;TZID=Europe/Amsterdam:20251114T220000
LOCATION:Wilhelminastraat 59, Lisse
DESCRIPTION: Duik diep in de kracht van bewust verbonden ademen! In deze 2,5-uur durende groepssessie (max. 6 personen) ervaar je hoe krachtig ademen kan zijn. Het gaat je helpen stress los te laten, diepe ontspanning te vinden en je innerlijke energie te boosten. Deze sessie is open voor iedereen. Of je nu voor het eerst komt of al ervaring hebt.
STATUS:CONFIRMED
SEQUENCE:0
END:VEVENT
END:VCALENDAR