BEGIN:VCALENDAR
VERSION:2.0
CALSCALE:GREGORIAN
BEGIN:VEVENT
SUMMARY:Feature Class - 2 Hour Yin, Sound and Reiki Session
DTSTART;TZID=Australia/Brisbane:20210911T160000
DTEND;TZID=Australia/Brisbane:20210911T180000
LOCATION:3/99 Brighton Rd, Sandgate
DESCRIPTION: 
STATUS:CONFIRMED
SEQUENCE:0
END:VEVENT
END:VCALENDAR