BEGIN:VCALENDAR
VERSION:2.0
CALSCALE:GREGORIAN
BEGIN:VEVENT
SUMMARY:Revive &amp; Restore Bank Holiday Restorative yoga
DTSTART;TZID=Australia/Brisbane:20200413T180000
DTEND;TZID=Australia/Brisbane:20200413T190000
LOCATION:Livestream via web
DESCRIPTION: Perfect for all levels......

Classic Restorative yoga practice, get those pillows, cushions and blankets and surrender into blissful relaxation.

This class is streamed live over the internet.  We will send you a link to the meeting via text or email around 1 hour before the class.  How you receive the link will depend on what you have added to your account in our system please be sure to have the best email or mobile phone number in your account.  Just click that link and follow the instructions to connect.  The first time you connect, allow for some extra time to make sure you can connect. If you require any assistance, please call us at 0414070178 or 0487312405 and we will do our best to help you.
STATUS:CONFIRMED
SEQUENCE:0
END:VEVENT
END:VCALENDAR