BEGIN:VCALENDAR
VERSION:2.0
CALSCALE:GREGORIAN
BEGIN:VEVENT
SUMMARY:Revive Pilates
DTSTART;TZID=Australia/Brisbane:20191118T091500
DTEND;TZID=Australia/Brisbane:20191118T101500
LOCATION:Rainbow Street
DESCRIPTION: Mat Pilates is a full body workout preformed on the floor on a mat, sometimes using small apparatus. This class is suitable for all levels as it challenges the individual to work within their own body. Focusing on core strength and stability.
STATUS:CONFIRMED
SEQUENCE:0
END:VEVENT
END:VCALENDAR