BEGIN:VCALENDAR
VERSION:2.0
CALSCALE:GREGORIAN
BEGIN:VEVENT
SUMMARY:Revive Dynamic Yoga
DTSTART;TZID=Australia/Brisbane:20191218T091500
DTEND;TZID=Australia/Brisbane:20191218T101500
LOCATION:Rainbow Street
DESCRIPTION: Hatha flow is movement with breath, flowing from one asana (pose) to the next, holding the pose for three breathes, and flowing with movement, this class builds strength, length in the body and calmness within the mind.
STATUS:CONFIRMED
SEQUENCE:0
END:VEVENT
END:VCALENDAR