BEGIN:VCALENDAR
VERSION:2.0
CALSCALE:GREGORIAN
BEGIN:VEVENT
SUMMARY:Revive Hatha Yoga - Online
DTSTART;TZID=Australia/Brisbane:20211019T183000
DTEND;TZID=Australia/Brisbane:20211019T193000
LOCATION:Livestream via web
DESCRIPTION: A relaxing slow paced, gentle class suitable for most body types, age and mobility.
The focus is on soothing and nourishing the body and mind.
Ideal for people with restricted flexibility, recovering from injury or illness or wanting to de-stress and relax.
You will leave the class feeling you have had a good stretch, while strength, flexibility and balance improves.
STATUS:CONFIRMED
SEQUENCE:0
END:VEVENT
END:VCALENDAR