BEGIN:VCALENDAR
VERSION:2.0
CALSCALE:GREGORIAN
BEGIN:VEVENT
SUMMARY:Annual Christmas Party
DTSTART;TZID=Australia/Brisbane:20191204T183000
DTEND;TZID=Australia/Brisbane:20191204T213000
LOCATION:Rainbow st
DESCRIPTION: Come by the studio, bring your family, bring some friends, and celebrate the holidays with your fellow yogis.
STATUS:CONFIRMED
SEQUENCE:0
END:VEVENT
END:VCALENDAR