BEGIN:VCALENDAR
VERSION:2.0
CALSCALE:GREGORIAN
BEGIN:VEVENT
SUMMARY:Revive Lunchtime Pilates Express 45 minutes
DTSTART;TZID=Australia/Brisbane:20200516T121500
DTEND;TZID=Australia/Brisbane:20200516T124500
LOCATION:Rainbow st
DESCRIPTION: 
STATUS:CONFIRMED
SEQUENCE:0
END:VEVENT
END:VCALENDAR