BEGIN:VCALENDAR
VERSION:2.0
CALSCALE:GREGORIAN
BEGIN:VEVENT
SUMMARY:Revive Hot Power Yoga (45 Minute Express)
DTSTART;TZID=Australia/Brisbane:20210305T053000
DTEND;TZID=Australia/Brisbane:20210305T061500
LOCATION:3/99 Brighton Rd, Sandgate
DESCRIPTION: 
STATUS:CONFIRMED
SEQUENCE:0
END:VEVENT
END:VCALENDAR